BEGIN:VCALENDAR
VERSION:2.0
PRODID:-//Eventin//Event Calendar//EN
CALSCALE:GREGORIAN
METHOD:PUBLISH
BEGIN:VEVENT
UID:621f57b384308c560ed06482718b913e@antaramarket.com
SUMMARY:Zumba May 8th 2026
DESCRIPTION:Testing purposes\; Free payment
LOCATION:Graha Mekar Wangi\, Jl. RD Rangga Kencana No.1A\, Mekarwangi\, Ban
 dung
DTSTAMP:20260419T150436Z
DTSTART:20260508T000000Z
DTEND:20260508T140000Z
END:VEVENT
END:VCALENDAR
